BEGIN:VCALENDAR
VERSION:2.0
METHOD:PUBLISH
PRODID:-//hacksw/handcal//NONSGML v1.0//EN
BEGIN:VEVENT
DTSTAMP:20260421T020559Z
DTSTART:20201129T194500Z
DTEND:20201129T204500Z
UID:20201129T194500Z-20201129T204500Z-1854@christiansciencedenton.com
SUMMARY:Lunch Together
DESCRIPTION:On the last Sunday of the month\, everyone is invited to h
 ave lunch together.  The restaurant  is chosen by those participating.
   We try to go to different places each time.  Breaking bread together
  a nice way to get to know each other.
X-ALT-DESC;FMTTYPE=text/html:<p>On the last Sunday of the month\, ever
 yone is invited to have lunch together.  The restaurant  is chosen by 
 those participating.  We try to go to different places each time.  Bre
 aking bread together a nice way to get to know each other.</p>\n
URL:https://christiansciencedenton.com/events/lunch-together-16/?lang=
 en
ATTACH:https://christiansciencedenton.com/events/lunch-together-16/?la
 ng=en
END:VEVENT
END:VCALENDAR
